BEGIN:VCALENDAR
VERSION:2.0
PRODID:-//wp-events-plugin.com//7.2.3.1//EN
TZID:Europe/Berlin
X-WR-TIMEZONE:Europe/Berlin
BEGIN:VEVENT
UID:333@dienstagstreff-wendlingen.de
DTSTART;TZID=Europe/Berlin:20201222T193000
DTEND;TZID=Europe/Berlin:20201222T213000
DTSTAMP:20201219T202649Z
URL:http://www.dienstagstreff-wendlingen.de/events/dienstagstreff-2020-12-
 22/
SUMMARY:Dienstagstreff
DESCRIPTION:Aufgrund der Corona Verordnungen bieten wir für diesen Termin 
 ein Online Treffen an.
CATEGORIES:Treff Gruppe
LOCATION:Online Treffen\, Internet\, Wendlingen\, Deutschland
X-APPLE-STRUCTURED-LOCATION;VALUE=URI;X-ADDRESS=Internet\, Wendlingen\, Deu
 tschland;X-APPLE-RADIUS=100;X-TITLE=Online Treffen:geo:0,0
END:VEVENT
BEGIN:VTIMEZONE
TZID:Europe/Berlin
X-LIC-LOCATION:Europe/Berlin
BEGIN:STANDARD
DTSTART:20201025T020000
TZOFFSETFROM:+0200
TZOFFSETTO:+0100
TZNAME:CET
END:STANDARD
END:VTIMEZONE
END:VCALENDAR